BEGIN:VCALENDAR
VERSION:2.0
PRODID:ics.py 0.8.0-dev0 - http://git.io/lLljaA
BEGIN:VEVENT
DTSTART:20220324T200000Z
DTEND:20220324T210000Z
SUMMARY:Matplotlib — Plot Plotting (open project call)
UID:969e839f-2519-40a7-9802-1b870ff9527b@969e.org
DESCRIPTION:The Weekly Matplotlib project call.\n\nAll are 
 welcome.\n\nMeeting notes and agenda: https://hackmd.io/@matplotlib
URL:https://zoom.us/j/384435716?pwd=WFpxVWxoYXArTDFzN1lWaHNoOE8xZz09
DTSTAMP:20260113T193416Z
RRULE:FREQ=WEEKLY;BYDAY=TH
END:VEVENT
BEGIN:VEVENT
DTSTART:20230207T170000Z
DTEND:20230207T180000Z
SUMMARY:Matplotlib Monthly New Contributors Meeting (Americas)
UID:026a1b3a-4679-47c4-bb0f-e8e98d09c56f@026a.org
DESCRIPTION:The monthly call for new contributors to the Matplotlib project
  🎉\n\nThis is the Americas-friendly meeting.\n\nAll are 
 welcome.\n\nMeeting notes: https://hackmd.io/@matplotlib
URL:https://numfocus-
 org.zoom.us/j/88077871096?pwd=bTxkJRug4Lmr8AiR9jNyntxBS4yGDe.1
DTSTAMP:20260113T193416Z
RRULE:FREQ=MONTHLY;BYDAY=1TU;INTERVAL=2
END:VEVENT
BEGIN:VEVENT
DTSTART:20230307T110000Z
DTEND:20230307T120000Z
SUMMARY:Matplotlib Monthly New Contributors Meeting (Europe/Asia)
UID:db7e8fb9-7e60-4538-8377-740e27fe9e6e@db7e.org
DESCRIPTION:The monthly call for new contributors to the Matplotlib project
  🎉\n\nThis is the Europe/Asia-friendly meeting.\n\nAll are 
 welcome.\n\nMeeting notes: https://hackmd.io/@matplotlib
URL:https://numfocus-
 org.zoom.us/j/88077871096?pwd=bTxkJRug4Lmr8AiR9jNyntxBS4yGDe.1
DTSTAMP:20260113T193416Z
RRULE:FREQ=MONTHLY;BYDAY=1TU;INTERVAL=2
END:VEVENT
BEGIN:VEVENT
DTSTART:20231215T170000Z
DTEND:20231215T180000Z
SUMMARY:Matplotlib Documentation Meeting
UID:5f947c53-367f-438b-9118-01459207cb79@5f94.org
DESCRIPTION:Meeting every other week to discuss all things Matplotlib 
 documentation.\nContributing\, planning\, strategy\, content - anybody 
 with curiosity\, interest\,\nor an opinion is welcome.\n\nMeeting notes: 
 https://hackmd.io/@matplotlib/dwg
URL:https://us06web.zoom.us/j/81285851006?pwd=Tks2QjRkNWh5NGw0TmU1RUwwOVluZ
 z09
DTSTAMP:20260113T193416Z
RRULE:FREQ=WEEKLY;BYDAY=FR;INTERVAL=2
END:VEVENT
NAME:Matplotlib Community Calendar
X-WR-CALNAME:Matplotlib Community Calendar
END:VCALENDAR
